BEGIN:VCALENDAR
VERSION:2.0
PRODID:-// - ECPv6.15.20//NONSGML v1.0//EN
CALSCALE:GREGORIAN
METHOD:PUBLISH
X-ORIGINAL-URL:https://hk-opdebeek.nl
X-WR-CALDESC:Evenementen voor 
REFRESH-INTERVAL;VALUE=DURATION:PT1H
X-Robots-Tag:noindex
X-PUBLISHED-TTL:PT1H
BEGIN:VTIMEZONE
TZID:Europe/Amsterdam
BEGIN:DAYLIGHT
TZOFFSETFROM:+0100
TZOFFSETTO:+0200
TZNAME:CEST
DTSTART:20110327T010000
END:DAYLIGHT
BEGIN:STANDARD
TZOFFSETFROM:+0200
TZOFFSETTO:+0100
TZNAME:CET
DTSTART:20111030T010000
END:STANDARD
BEGIN:DAYLIGHT
TZOFFSETFROM:+0100
TZOFFSETTO:+0200
TZNAME:CEST
DTSTART:20120325T010000
END:DAYLIGHT
BEGIN:STANDARD
TZOFFSETFROM:+0200
TZOFFSETTO:+0100
TZNAME:CET
DTSTART:20121028T010000
END:STANDARD
BEGIN:DAYLIGHT
TZOFFSETFROM:+0100
TZOFFSETTO:+0200
TZNAME:CEST
DTSTART:20130331T010000
END:DAYLIGHT
BEGIN:STANDARD
TZOFFSETFROM:+0200
TZOFFSETTO:+0100
TZNAME:CET
DTSTART:20131027T010000
END:STANDARD
END:VTIMEZONE
BEGIN:VEVENT
DTSTART;TZID=Europe/Amsterdam:20120324T130000
DTEND;TZID=Europe/Amsterdam:20120324T170000
DTSTAMP:20260421T171047
CREATED:20120905T145559Z
LAST-MODIFIED:20120905T172002Z
UID:2003-1332594000-1332608400@hk-opdebeek.nl
SUMMARY:FIETSTOCHT naar de VLOEIWEIDE
DESCRIPTION:Fietstocht naar de Vloeiweide als vervolg op de lezing “HET DRAMA VAN DE VLOEIWEIDE” door Rinie Maas en Janus Jochems  (schrijvers van het boek “Het verbeten verzet van de Vloeiweide”) op 30 januari 2012. \nHet drama van de Vloeiweide is uitvoerig aan de orde geweest in de lezing\, die onlangs werd gehouden in Museum De Rijf. Het is goed om ook ter plaatse een kijkje te gaan nemen om de volle omvang van het drama te kunnen begrijpen. Onder begeleiding van Janus Jochems maken we een wandeling over het terrein van de Vloeiweide. Afstand ongeveer 8 km. \nVertrek om 13.00 u bij Museum De Rijf\, Vijverstraat 3. Deelname voor leden gratis en voor niet-leden € 5\,– (inclusief consumptie). \nOpgave uiterlijk 19 maart a.s. bij het secretariaat 076-5212405 of mawdebeer@ziggo.nl. \n 
URL:https://hk-opdebeek.nl/agenda/fietstocht-naar-de-vloeiweide/
LOCATION:Museum DE RIJF\, Vijverstraat 3\, Prinsenbeek\, 4841 AT\, Netherlands
END:VEVENT
BEGIN:VEVENT
DTSTART;TZID=Europe/Amsterdam:20120226T133000
DTEND;TZID=Europe/Amsterdam:20120226T163000
DTSTAMP:20260421T171047
CREATED:20120905T142135Z
LAST-MODIFIED:20120905T172048Z
UID:1993-1330263000-1330273800@hk-opdebeek.nl
SUMMARY:Museum DE RIJF open met BAK-expositie ”KÈK NOU TOCH:  BOEMELDONCK!” door Carnavalsclub D'oren toe.
DESCRIPTION:Museum DE RIJF open met BAK-expositie ”KÈK NOU TOCH:  BOEMELDONCK!” door Carnavalsclub D’oren toe.\nCarnaval in Boemeldonck:  een begrip in ons dorp. Alle reden om dit festijn een vast plekje in ons Museum DE RIJF te geven. \nSamen met de B.A.K. wordt aan dit idee in 2012 gestalte gegeven midddels een permanente “BAK-wand”\,   aangevuld met wisselexposities van Boemeldonckse Carnavalsclubs.\nCarnavalsclub D’ OREN TOE (1975-1989) zal het spits afbijten en laten zien hoe een kleine club vijftien jaar actief was in het Beekse Carnaval.\nOp de zondagen 29 januari\,  26 februari en 25 maart presenteert D’ OREN TOE zich met een collectie carnavals-herinningen (voorwerpen\, kunstwerken en documenten) uit het verenigingsarchief en privé-bezit van haar leden.
URL:https://hk-opdebeek.nl/agenda/museum-de-rijf-open-met-bak-expositie-kek-nou-toch-boemeldonck-door-carnavalsclub-doren-toe-2/
LOCATION:Museum DE RIJF\, Vijverstraat 3\, Prinsenbeek\, 4841 AT\, Netherlands
END:VEVENT
BEGIN:VEVENT
DTSTART;TZID=Europe/Amsterdam:20120130T193000
DTEND;TZID=Europe/Amsterdam:20120130T220000
DTSTAMP:20260421T171047
CREATED:20120905T144734Z
LAST-MODIFIED:20120905T172132Z
UID:2000-1327951800-1327960800@hk-opdebeek.nl
SUMMARY:LEZING "HET DRAMA VAN DE VLOEIWEIDE" door Rinie Maas en Janus Jochems
DESCRIPTION:Lezing “HET DRAMA VAN DE VLOEIWEIDE” door Rinie Maas en Janus Jochems  (schrijvers van het boek “Het verbeten verzet van de Vloeiweide”) over het drama dat op de Vloeiweide plaats vond op 4 oktober 1944. Negen doden vielen daarbij te betreuren\, onder wie een moeder met drie kinderen. Het is ook een landelijk bekend oorlogsverhaal; in het monument op de Dam in Amsterdam zit een urn met grond van de Vloeiweide. \nOok zal worden ingegaan op het Beeks verzet in de oorlog en de relatie die er was met de Vloeiweidepost. \nHet heeft volgens Maas overigens maar een haartje gescheeld of ook Beek had zijn oorlogsdrama gehad. Dit was toen de Duitsers het door het Beeks verzet op het landgoed Bosdal ingerichte tijdelijke gevangenenkamp wilden opruimen. Maar men wist tijdig te ontsnappen. Hierover doen interessante verhalen de ronde. Daarom wordt een beroep gedaan op iedereen die hierover meer kan vertellen\, om contact op te nemen met Rinie of met ons.  Er bestaan plannen om hierover een boek te laten verschijnen. \nRinie Maas is geen onbekende in Prinsenbeek en al woont hij al jaren in Breda\, hij blijft een Bekenaar in hart en nieren want hij is hier geboren. \n        
URL:https://hk-opdebeek.nl/agenda/lezing-het-drama-van-de-vloeiweide-door-rinie-maas/
LOCATION:Museum DE RIJF\, Vijverstraat 3\, Prinsenbeek\, 4841 AT\, Netherlands
END:VEVENT
BEGIN:VEVENT
DTSTART;TZID=Europe/Amsterdam:20120129T133000
DTEND;TZID=Europe/Amsterdam:20120129T163000
DTSTAMP:20260421T171047
CREATED:20120905T141922Z
LAST-MODIFIED:20120905T172221Z
UID:1990-1327843800-1327854600@hk-opdebeek.nl
SUMMARY:Museum DE RIJF open met BAK-expositie ”KÈK NOU TOCH:  BOEMELDONCK!” door Carnavalsclub D'oren toe
DESCRIPTION:Museum DE RIJF open met BAK-expositie ”KÈK NOU TOCH:  BOEMELDONCK!” door Carnavalsclub D’oren toe.\nCarnaval in Boemeldonck:  een begrip in ons dorp. Alle reden om dit festijn een vast plekje in ons Museum DE RIJF te geven.  \nSamen met de B.A.K. wordt aan dit idee in 2012 gestalte gegeven midddels een permanente “BAK-wand”\,   aangevuld met wisselexposities van Boemeldonckse Carnavalsclubs.\nCarnavalsclub D’ OREN TOE (1975-1989) zal het spits afbijten en laten zien hoe een kleine club vijftien jaar actief was in het Beekse Carnaval.\nOp de zondagen 29 januari\,  26 februari en 25 maart presenteert D’ OREN TOE zich met een collectie carnavals-herinningen (voorwerpen\, kunstwerken en documenten) uit het verenigingsarchief en privé-bezit van haar leden.
URL:https://hk-opdebeek.nl/agenda/museum-de-rijf-open-met-bak-expositie-kek-nou-toch-boemeldonck-door-carnavalsclub-doren-toe/
LOCATION:Museum DE RIJF\, Vijverstraat 3\, Prinsenbeek\, 4841 AT\, Netherlands
END:VEVENT
END:VCALENDAR