BEGIN:VCALENDAR
VERSION:2.0
PRODID:-// - ECPv6.15.20//NONSGML v1.0//EN
CALSCALE:GREGORIAN
METHOD:PUBLISH
X-ORIGINAL-URL:https://hk-opdebeek.nl
X-WR-CALDESC:Evenementen voor 
REFRESH-INTERVAL;VALUE=DURATION:PT1H
X-Robots-Tag:noindex
X-PUBLISHED-TTL:PT1H
BEGIN:VTIMEZONE
TZID:Europe/Amsterdam
BEGIN:DAYLIGHT
TZOFFSETFROM:+0100
TZOFFSETTO:+0200
TZNAME:CEST
DTSTART:20120325T010000
END:DAYLIGHT
BEGIN:STANDARD
TZOFFSETFROM:+0200
TZOFFSETTO:+0100
TZNAME:CET
DTSTART:20121028T010000
END:STANDARD
BEGIN:DAYLIGHT
TZOFFSETFROM:+0100
TZOFFSETTO:+0200
TZNAME:CEST
DTSTART:20130331T010000
END:DAYLIGHT
BEGIN:STANDARD
TZOFFSETFROM:+0200
TZOFFSETTO:+0100
TZNAME:CET
DTSTART:20131027T010000
END:STANDARD
BEGIN:DAYLIGHT
TZOFFSETFROM:+0100
TZOFFSETTO:+0200
TZNAME:CEST
DTSTART:20140330T010000
END:DAYLIGHT
BEGIN:STANDARD
TZOFFSETFROM:+0200
TZOFFSETTO:+0100
TZNAME:CET
DTSTART:20141026T010000
END:STANDARD
END:VTIMEZONE
BEGIN:VEVENT
DTSTART;TZID=Europe/Amsterdam:20131103T133000
DTEND;TZID=Europe/Amsterdam:20131103T163000
DTSTAMP:20260421T061155
CREATED:20121119T163349Z
LAST-MODIFIED:20130930T122040Z
UID:2621-1383485400-1383496200@hk-opdebeek.nl
SUMMARY:Museum DE RIJF open met expositie "125 jaar Harmonie AMOR MUSAE"
DESCRIPTION:Museum DE RIJF open met expositie “125 jaar Harmonie AMOR MUSAE”. \nVoor meer informatie klik op   WISSELEXPO \n  \n  \n  \n  \n  \n 
URL:https://hk-opdebeek.nl/agenda/museum-de-rijf-open-10/
LOCATION:Museum DE RIJF\, Vijverstraat 3\, Prinsenbeek\, 4841 AT\, Netherlands
END:VEVENT
BEGIN:VEVENT
DTSTART;TZID=Europe/Amsterdam:20131027T093000
DTEND;TZID=Europe/Amsterdam:20131027T130000
DTSTAMP:20260421T061155
CREATED:20121201T132742Z
LAST-MODIFIED:20121201T132742Z
UID:2652-1382866200-1382878800@hk-opdebeek.nl
SUMMARY:Begeleide wandeling over LANDGOED BURGST
DESCRIPTION:Wandeling over Landgoed Burgst onder leiding van 2 gidsen. Zij vertellen u alles over de natuur\, over de geschiedenis en over de ontwikkelingen in het gebied. De wandeling start op Kinderboerderij De Sik en duurt ongeveer 2 uur. Tijdens de ontvangst met koffie en cake krijgt u algemene informatie over het gebied\, waarna de wandeling begint. Na terugkomst op Kinderboerderij De Sik wacht u een eenvoudige lunch bestaande uit soep\, broodjes en drinken. \nVoor deze wandeling moet u zich inschrijven en per keer kunnen maximaal 20 wandelaars deelnemen. \nGa voor meer informatie en het inschrijvingsformulier naar:  Wandeling over Landgoed Burgst \n  \n  \n 
URL:https://hk-opdebeek.nl/agenda/begeleide-wandeling-over-landgoed-burgst-4/
LOCATION:Kinderboerderij De Sik\, Kesterendreef 14\, BREDA\, 4822 WT\, Netherlands
END:VEVENT
BEGIN:VEVENT
DTSTART;TZID=Europe/Amsterdam:20131006T133000
DTEND;TZID=Europe/Amsterdam:20131006T163000
DTSTAMP:20260421T061155
CREATED:20121119T163216Z
LAST-MODIFIED:20130930T121913Z
UID:2618-1381066200-1381077000@hk-opdebeek.nl
SUMMARY:Museum DE RIJF open met expositie "125 jaar Harmonie AMOR MUSAE"
DESCRIPTION:Museum DE RIJF open met expositie “125 jaar Harmonie AMOR MUSAE”. \nVoor meer informatie klik op    WISSELEXPO   \n  \n  \n 
URL:https://hk-opdebeek.nl/agenda/museum-de-rijf-open-9/
LOCATION:Museum DE RIJF\, Vijverstraat 3\, Prinsenbeek\, 4841 AT\, Netherlands
END:VEVENT
BEGIN:VEVENT
DTSTART;TZID=Europe/Amsterdam:20130930T080000
DTEND;TZID=Europe/Amsterdam:20130930T170000
DTSTAMP:20260421T061155
CREATED:20121202T103833Z
LAST-MODIFIED:20121202T104301Z
UID:2710-1380528000-1380560400@hk-opdebeek.nl
SUMMARY:Verschijningsdatum verenigingsblad DE KLEPEL jaargang 2013-nummer 67-september 2013
DESCRIPTION:Verschijningsdatum verenigingsblad DE KLEPEL jaargang 2013-nummer 67-september 2013. \n  \n  \n 
URL:https://hk-opdebeek.nl/agenda/verschijningsdatum-verenigingsblad-de-klepel-jaargang-2013-nummer-67-september-2013/
END:VEVENT
BEGIN:VEVENT
DTSTART;TZID=Europe/Amsterdam:20130928T133000
DTEND;TZID=Europe/Amsterdam:20130928T150000
DTSTAMP:20260421T061155
CREATED:20130820T103652Z
LAST-MODIFIED:20130820T103703Z
UID:3267-1380375000-1380380400@hk-opdebeek.nl
SUMMARY:Afhalen en losse verkoop boek Rinie Maas  "‘Boschdal\, bolwerk van Beeks verzet\, oorlogsgeheim van bezet dorp"
DESCRIPTION:Ophalen gereserveerde exemplaren en losse verkoop van het boek  “Boschdal\, bolwerk van Beeks verzet\, oorlogsgeheim van bezet dorp” geschreven door Rinie Maas.  \nDe schrijver zal zelf aanwezig zijn om de boeken te signeren. \n  \n  \n 
URL:https://hk-opdebeek.nl/agenda/afhalen-en-losse-verkoop-boek-rinie-maas-boschdal-bolwerk-van-beeks-verzet-oorlogsgeheim-van-bezet-dorp/
LOCATION:Museum DE RIJF\, Vijverstraat 3\, Prinsenbeek\, 4841 AT\, Netherlands
ORGANIZER;CN="HKK Op de Beek":MAILTO:hkopdebeek@ziggo.nl
END:VEVENT
BEGIN:VEVENT
DTSTART;TZID=Europe/Amsterdam:20130919T140000
DTEND;TZID=Europe/Amsterdam:20130919T170000
DTSTAMP:20260421T061155
CREATED:20130909T153728Z
LAST-MODIFIED:20130909T155940Z
UID:3296-1379599200-1379610000@hk-opdebeek.nl
SUMMARY:FIETS MET WOUT TIMMERS DE DEVOTIEROUTE
DESCRIPTION:Op donderdag 19 september wordt deze route van ongeveer 20 km. gereden onder begeleiding van de samensteller Wout Timmers. Iedereen is welkom. \nVoor meer informatie over de route klik op:     Devotie – fietsroute \nVertrek vanaf Museum De Rijf\, Vijverstraat 3 om 14.00 uur en deelname is gratis. \n  \n  \n  \n  \n 
URL:https://hk-opdebeek.nl/agenda/devotie-fietsroute/
LOCATION:vertrek vanaf Museum DE RIJF\, Vijverstraat 3\, Prinsenbeek\, 4841 AT\, Netherlands
END:VEVENT
BEGIN:VEVENT
DTSTART;VALUE=DATE:20130915
DTEND;VALUE=DATE:20130916
DTSTAMP:20260421T061155
CREATED:20130528T153651Z
LAST-MODIFIED:20130528T153753Z
UID:3142-1379203200-1379289599@hk-opdebeek.nl
SUMMARY:Deelname HKK aan jaarmarkt BIKS BLAOSFESTIJN met kraam op de Markt.
DESCRIPTION:Deelname Heemkundekring OP DE BEEK aan jaarmarkt BIKS BLAOSFESTIJN met kraam op de Markt. \n  \n 
URL:https://hk-opdebeek.nl/agenda/deelname-hkk-aan-biks-blaosfestijn-met-kraam-op-de-markt/
LOCATION:Markt\, Markt\, Prinsenbeek\, Netherlands
ORGANIZER;CN="HKK Op de Beek":MAILTO:hkopdebeek@ziggo.nl
END:VEVENT
BEGIN:VEVENT
DTSTART;TZID=Europe/Amsterdam:20130911T193000
DTEND;TZID=Europe/Amsterdam:20130911T220000
DTSTAMP:20260421T061155
CREATED:20130528T152704Z
LAST-MODIFIED:20130528T153256Z
UID:3137-1378927800-1378936800@hk-opdebeek.nl
SUMMARY:Lezing  "Zwartenbergse polder en de moord op de Kadijk" door Ton van de Wijngaart
DESCRIPTION:Lezing  “Zwartenbergse polder en de moord op de Kadijk” door Ton van de Wijngaart.               \nVoor de pauze zal Ton op een bijzondere wijze aan de hand van een beeldpresentatie schetsen hoe dit gedeelte van Nederland en de polder in het bijzonder is ontstaan. Ook zal hij ingaan op de wijze van verwerving door Engelbrecht van Etten. Vanaf dat moment maakt hij een rondje om de polder met alle ins en outs van de laatste 500 jaar. \nNa de pauze vertelt hij over zijn boek: “De moord op de Kadijk”. Over het  ontstaan daarvan\, welke toevalligheden er een rol hebben gespeeld en wat er feitelijk is gebeurd. Het volksliedje “Moord op de Kadijk” uit 1918 en recentelijk ingezongen door zijn 95-jarige moeder zal niet ontbreken. \n  \n  \n  \n 
URL:https://hk-opdebeek.nl/agenda/lezing-zwartenbergse-polder-en-de-moord-op-de-kadijk-door-ton-van-de-wijngaart/
LOCATION:Museum DE RIJF\, Vijverstraat 3\, Prinsenbeek\, 4841 AT\, Netherlands
ORGANIZER;CN="HKK Op de Beek":MAILTO:hkopdebeek@ziggo.nl
END:VEVENT
BEGIN:VEVENT
DTSTART;TZID=Europe/Amsterdam:20130901T133000
DTEND;TZID=Europe/Amsterdam:20130901T163000
DTSTAMP:20260421T061155
CREATED:20121119T163035Z
LAST-MODIFIED:20130825T135250Z
UID:2615-1378042200-1378053000@hk-opdebeek.nl
SUMMARY:Museum DE RIJF open met expositie cursisten Atelier Tankink en presentatie museumproject "Het spoor op de Beek"
DESCRIPTION:Museum DE RIJF open met expositie cursisten Atelier Tankink. Zie ook:    Expostie cursisten Atelier Tankink \n  \nDaarnaast presenteren wij met trots ons nieuwe museumproject:  “HET SPOOR OP DE BEEK”. Een nieuwe echte enkelbaans spoorweg met slagboom\, bebording etc.\, historische foto’s en kaarten. De expositie is samengesteld in samenwerking met en met dank aan Sjoerd Eeftens. \n  \n  \n 
URL:https://hk-opdebeek.nl/agenda/museum-de-rijf-open-8/
LOCATION:Museum DE RIJF\, Vijverstraat 3\, Prinsenbeek\, 4841 AT\, Netherlands
END:VEVENT
BEGIN:VEVENT
DTSTART;TZID=Europe/Amsterdam:20130822T140000
DTEND;TZID=Europe/Amsterdam:20130822T160000
DTSTAMP:20260421T061155
CREATED:20130320T184848Z
LAST-MODIFIED:20130320T184848Z
UID:2967-1377180000-1377187200@hk-opdebeek.nl
SUMMARY:"BUURTEN" in PARK OVERBOS (nabij dierenparkje)
DESCRIPTION:“BUURTEN” is: ELKAAR ONTMOETEN ZOALS VROEGER IN EEN ONGEDWONGEN SFEER. \nWilt u even de tijd nemen om weer eens wat bij te kletsen\, dorpsgenoten te ontmoeten en misschien ook nog even de laatste dorpsroddels te horen\, dan moet u zeker eens komen buurten. \nVorig jaar kon het “buurten” helaas niet doorgaan vanwege de ziekte en het overlijden van Piet de Nijs\, die samen met zijn vrouw Olly deze activiteit jarenlang verzorgde. Maar we willen dit initiatief van Piet niet laten vervallen en daarom zal Wout Timmers deze traditie voortzetten. \nU kunt terecht op de volgende plaatsen en tijden: \n\ndonderdag 11 juli in Park Overbos (nabij Museum De Rijf);\ndonderdag  25 juli bij het gemaal Zwartenberg;\ndonderdag  8 augustus in de Hooiberg (eind Korenpad);\ndonderdag  22 augustus in Park Overbos (nabij dierenparkje).\n\nHet buurten duurt steeds van 14.00 tot ongeveer 16.00 uur. \n  \n  \n 
URL:https://hk-opdebeek.nl/agenda/buurten-in-park-overbos-nabij-dierenparkje/
LOCATION:Park Overbos nabij dierenparkje\, Prinsenbeek\, Netherlands
ORGANIZER;CN="HKK Op de Beek":MAILTO:hkopdebeek@ziggo.nl
END:VEVENT
BEGIN:VEVENT
DTSTART;TZID=Europe/Amsterdam:20130808T140000
DTEND;TZID=Europe/Amsterdam:20130808T160000
DTSTAMP:20260421T061155
CREATED:20130320T184603Z
LAST-MODIFIED:20130320T184603Z
UID:2963-1375970400-1375977600@hk-opdebeek.nl
SUMMARY:"BUURTEN" in de HOOIBERG (eind Korenpad)
DESCRIPTION:“BUURTEN” is: ELKAAR ONTMOETEN ZOALS VROEGER IN EEN ONGEDWONGEN SFEER. \nWilt u even de tijd nemen om weer eens wat bij te kletsen\, dorpsgenoten te ontmoeten en misschien ook nog even de laatste dorpsroddels te horen\, dan moet u zeker eens komen buurten. \nVorig jaar kon het “buurten” helaas niet doorgaan vanwege de ziekte en het overlijden van Piet de Nijs\, die samen met zijn vrouw Olly deze activiteit jarenlang verzorgde. Maar we willen dit initiatief van Piet niet laten vervallen en daarom zal Wout Timmers deze traditie voortzetten. \nU kunt terecht op de volgende plaatsen en tijden: \n\ndonderdag 11 juli in Park Overbos (nabij Museum De Rijf);\ndonderdag  25 juli bij het gemaal Zwartenberg;\ndonderdag  8 augustus in de Hooiberg (eind Korenpad);\ndonderdag  22 augustus in Park Overbos (nabij dierenparkje).\n\nHet buurten duurt steeds van 14.00 tot ongeveer 16.00 uur. \n  \n  \n 
URL:https://hk-opdebeek.nl/agenda/buurten-in-de-hooiberg-eind-korenpad/
LOCATION:Hooiberg (eind Korenpad)\, Prinsenbeek\, Netherlands
ORGANIZER;CN="HKK Op de Beek":MAILTO:hkopdebeek@ziggo.nl
END:VEVENT
BEGIN:VEVENT
DTSTART;TZID=Europe/Amsterdam:20130725T140000
DTEND;TZID=Europe/Amsterdam:20130725T160000
DTSTAMP:20260421T061155
CREATED:20130320T184253Z
LAST-MODIFIED:20130320T184947Z
UID:2960-1374760800-1374768000@hk-opdebeek.nl
SUMMARY:"BUURTEN" bij GEMAAL ZWARTENBERG
DESCRIPTION:“BUURTEN” is: ELKAAR ONTMOETEN ZOALS VROEGER IN EEN ONGEDWONGEN SFEER. \nWilt u even de tijd nemen om weer eens wat bij te kletsen\, dorpsgenoten te ontmoeten en misschien ook nog even de laatste dorpsroddels te horen\, dan moet u zeker eens komen buurten. \nVorig jaar kon het “buurten” helaas niet doorgaan vanwege de ziekte en het overlijden van Piet de Nijs\, die samen met zijn vrouw Olly deze activiteit jarenlang verzorgde. Maar we willen dit initiatief van Piet niet laten vervallen en daarom zal Wout Timmers deze traditie voortzetten. \nU kunt terecht op de volgende plaatsen en tijden: \n\ndonderdag 11 juli in Park Overbos (nabij Museum De Rijf);\ndonderdag  25 juli bij het gemaal Zwartenberg;\ndonderdag  8 augustus in de Hooiberg (eind Korenpad);\ndonderdag  22 augustus in Park Overbos (nabij dierenparkje).\n\nHet buurten duurt steeds van 14.00 tot ongeveer 16.00 uur. \n  \n  \n 
URL:https://hk-opdebeek.nl/agenda/buurten-bij-gemaal-zwartenberg/
LOCATION:Gemaal Zwartenberg\, Prinsenbeek\, Netherlands
ORGANIZER;CN="HKK Op de Beek":MAILTO:hkopdebeek@ziggo.nl
END:VEVENT
BEGIN:VEVENT
DTSTART;TZID=Europe/Amsterdam:20130711T140000
DTEND;TZID=Europe/Amsterdam:20130711T160000
DTSTAMP:20260421T061155
CREATED:20130320T183834Z
LAST-MODIFIED:20130320T183923Z
UID:2956-1373551200-1373558400@hk-opdebeek.nl
SUMMARY:"BUURTEN" in PARK OVERBOS (nabij Museum De Rijf)
DESCRIPTION:“BUURTEN” is: ELKAAR ONTMOETEN ZOALS VROEGER IN EEN ONGEDWONGEN SFEER.  \nWilt u even de tijd nemen om weer eens wat bij te kletsen\, dorpsgenoten te ontmoeten en misschien ook nog even de laatste dorpsroddels te horen\, dan moet u zeker eens komen buurten. \nVorig jaar kon het “buurten” helaas niet doorgaan vanwege de ziekte en het overlijden van Piet de Nijs\, die samen met zijn vrouw Olly deze activiteit jarenlang verzorgde. Maar we willen dit initiatief van Piet niet laten vervallen en daarom zal Wout Timmers deze traditie voortzetten. \nU kunt terecht op de volgende plaatsen en tijden:  \n\ndonderdag 11 juli in Park Overbos (nabij Museum De Rijf);\ndonderdag  25 juli bij het gemaal Zwartenberg;\ndonderdag  8 augustus in de Hooiberg (eind Korenpad);\ndonderdag  22 augustus in Park Overbos (nabij dierenparkje). \n\nHet buurten duurt steeds van 14.00 tot ongeveer 16.00 uur. \n  \n  \n 
URL:https://hk-opdebeek.nl/agenda/buurten-in-park-overbos-nabij-museum-de-rijf/
LOCATION:Park Overbos nabij Museum De Rijf\, Vijverstraat 3\, Prinsenbeek\, Netherlands
ORGANIZER;CN="HKK Op de Beek":MAILTO:hkopdebeek@ziggo.nl
END:VEVENT
BEGIN:VEVENT
DTSTART;TZID=Europe/Amsterdam:20130630T000000
DTEND;TZID=Europe/Amsterdam:20130630T000000
DTSTAMP:20260421T061155
CREATED:20121202T103659Z
LAST-MODIFIED:20121202T104344Z
UID:2708-1372550400-1372550400@hk-opdebeek.nl
SUMMARY:Verschijningsdatum verenigingsblad DE KLEPEL jaargang 2013-nummer 66-juni 2013
DESCRIPTION:Verschijningsdatum verenigingsblad DE KLEPEL jaargang 2013-nummer 66-juni 2013. \n  \n  \n 
URL:https://hk-opdebeek.nl/agenda/verschijningsdatum-verenigingsblad-de-klepel-jaargang-2013-nummer-66-juni-2013/
END:VEVENT
BEGIN:VEVENT
DTSTART;TZID=Europe/Amsterdam:20130628T210000
DTEND;TZID=Europe/Amsterdam:20130628T223000
DTSTAMP:20260421T061155
CREATED:20130604T123116Z
LAST-MODIFIED:20130604T123142Z
UID:3146-1372453200-1372458600@hk-opdebeek.nl
SUMMARY:BEEKSE PROMINENTENKOERS
DESCRIPTION:Deelname aan de jaarlijkse BEEKSE PROMINENTENKOERS georganiseerd door Stichting Wielercomité Prinsenbeek. \n  \n  \n 
URL:https://hk-opdebeek.nl/agenda/beekse-prominentenkoers/
LOCATION:Centrum\, Prinsenbeek\, Netherlands
END:VEVENT
BEGIN:VEVENT
DTSTART;TZID=Europe/Amsterdam:20130622T093000
DTEND;TZID=Europe/Amsterdam:20130622T130000
DTSTAMP:20260421T061155
CREATED:20121201T132545Z
LAST-MODIFIED:20121201T132545Z
UID:2649-1371893400-1371906000@hk-opdebeek.nl
SUMMARY:Begeleide wandeling over LANDGOED BURGST
DESCRIPTION:Wandeling over Landgoed Burgst onder leiding van 2 gidsen. Zij vertellen u alles over de natuur\, over de geschiedenis en over de ontwikkelingen in het gebied. De wandeling start op Kinderboerderij De Sik en duurt ongeveer 2 uur. Tijdens de ontvangst met koffie en cake krijgt u algemene informatie over het gebied\, waarna de wandeling begint. Na terugkomst op Kinderboerderij De Sik wacht u een eenvoudige lunch bestaande uit soep\, broodjes en drinken. \nVoor deze wandeling moet u zich inschrijven en per keer kunnen maximaal 20 wandelaars deelnemen. \nGa voor meer informatie en het inschrijvingsformulier naar:  Wandeling over Landgoed Burgst \n  \n  \n 
URL:https://hk-opdebeek.nl/agenda/begeleide-wandeling-over-landgoed-burgst-3/
LOCATION:Kinderboerderij De Sik\, Kesterendreef 14\, BREDA\, 4822 WT\, Netherlands
END:VEVENT
BEGIN:VEVENT
DTSTART;TZID=Europe/Amsterdam:20130622T081500
DTEND;TZID=Europe/Amsterdam:20130622T180000
DTSTAMP:20260421T061155
CREATED:20121201T144333Z
LAST-MODIFIED:20130326T110738Z
UID:2669-1371888900-1371924000@hk-opdebeek.nl
SUMMARY:HEEMREIS naar UTRECHTSE BOTANISCHE TUINEN en HUIS DOORN
DESCRIPTION:Dit jaar brengen we een bezoek aan de provincie Utrecht en wel aan de volgende 2 unieke plaatsen:  \nDE UTRECHTSE BOTANISCHE TUINEN  \nDeze behoren tot de oudste nog bestaande universitaire tuinen van Nederland. De Tuinen zijn opgericht in 1639\, drie jaar na de oprichting van de Utrechtse Universiteit. De eerste tuin werd aangelegd op het toenmalige Bolwerk Sonnenborgh\, waar zich nu de Sterrenwacht bevindt\, later volgde de Lange Nieuwstraat waar nu het Universiteitsmuseum is en op dit moment is de hoofdlocatie van de Tuinen te vinden op Fort Hoofddijk in Utrecht. Voor meer informatie zie   BOTANISCHE TUINEN UTRECHT \nHUIS DOORN \nHuis Doorn/kasteel heeft bekendheid verworven doordat het bewoond is geweest door ex-keizer Wilhelm II van Duitsland\, die er woonde van 1920 tot 1941. Hij was de laatste bewoner. Huize Doorn wordt al in 838 genoemd in geschriften van de bisschop van Utrecht. Na een brand in 1322 werd het kasteel 25 jaar later herbouwd. Vanaf 1635 hebben meerdere eigenaars het kasteel in beheer gehad. Het kasteel is ingericht met prachtige Victoriaanse interieurs\, deze zijn sinds 1941 niet meer veranderd. De bezoeker krijgt daardoor een authentiek beeld van de vorstelijke wooncultuur rond 1900. Huize Doorn is gelegen in een prachtig parkbos. Voor meer informatie zie  HUIS DOORN \nProgramma: \n8.15 uur  Vertrek vanaf de Markt Prinsenbeek; \n9.45 uur  Aankomst bij de Botanische tuinen\, welkom met koffie en gebak en daarna rondleiding met gids; \n12.45 uur  Lunch; \n15.15 uur  Aankomst bij Huis Doorn\, rondleiding van ongeveer 1 1/2 uur met gids en na een kopje koffie een wandeling door het park op eigen gelegenheid; \n18.00 uur  Aankomst op de Markt te Prinsenbeek. \n Deelnamekosten € 29.50\, als u in het bezit bent van een museumjaarkaart dan betaalt u € 22.50. \nU kunt zich inschrijven (max 2 per lidmaatschap) door overmaking van € 29\,50 p.p. of € 22.50 p.p. op Raborekeningnummer 142583111 t.n.v. HKK Op de Beek onder vermelding van Heemreis 2013. \nOm in aanmerking te komen voor de korting is het tonen van de museumkaart op deze dag verplicht. \nInschrijven tot uiterlijk 9 juni 2013.  \nInschrijving betekent ook deelname. Er is in eerste instantie plaats voor 50 personen. Een tweede bus behoort tot de mogelijkheden\, maar dan bij een minimale bezetting van 30 personen. Deelname gaat per datum van inschrijving/betaling. \n  \n  \n  \n  \n  \n  \n 
URL:https://hk-opdebeek.nl/agenda/heemreis/
LOCATION:Markt\, Markt\, Prinsenbeek\, Netherlands
ORGANIZER;CN="HKK Op de Beek":MAILTO:hkopdebeek@ziggo.nl
END:VEVENT
BEGIN:VEVENT
DTSTART;TZID=Europe/Amsterdam:20130602T133000
DTEND;TZID=Europe/Amsterdam:20130602T163000
DTSTAMP:20260421T061155
CREATED:20121119T162914Z
LAST-MODIFIED:20130429T105741Z
UID:2612-1370179800-1370190600@hk-opdebeek.nl
SUMMARY:Museum DE RIJF open met expositie teken- en schildergroep "Angelo Custode"
DESCRIPTION:Museum DE RIJF open met expositie teken- en schildergroep “Angelo Custode”. \nDe exposanten zullen zijn Marie-Louise van Aalst\, José Broekhoff\, Roseriet Caron\, Luus van Essen\, Anneke Gerritsma\, Monique Hitzbleck-de Kuyper\, Ine van den Hoven\, Ankie Lier-Janssens en Rieky Schermer. \nVoor uitgebreide informatie klik op   WISSELEXPO “ANGELO CUSTODE” \n  \n  \n  \n                        \n  \n  \n 
URL:https://hk-opdebeek.nl/agenda/museum-de-rijf-open-7/
LOCATION:Museum DE RIJF\, Vijverstraat 3\, Prinsenbeek\, 4841 AT\, Netherlands
END:VEVENT
BEGIN:VEVENT
DTSTART;VALUE=DATE:20130520
DTEND;VALUE=DATE:20130521
DTSTAMP:20260421T061155
CREATED:20121203T120612Z
LAST-MODIFIED:20121203T120612Z
UID:2727-1369008000-1369094399@hk-opdebeek.nl
SUMMARY:-Tweede Pinksterdag-
DESCRIPTION:  \n  \n  \n 
URL:https://hk-opdebeek.nl/agenda/tweede-pinksterdag/
END:VEVENT
BEGIN:VEVENT
DTSTART;VALUE=DATE:20130519
DTEND;VALUE=DATE:20130520
DTSTAMP:20260421T061155
CREATED:20121203T120521Z
LAST-MODIFIED:20121203T120521Z
UID:2726-1368921600-1369007999@hk-opdebeek.nl
SUMMARY:-Pinksteren-
DESCRIPTION:  \n  \n  \n 
URL:https://hk-opdebeek.nl/agenda/pinksteren/
END:VEVENT
BEGIN:VEVENT
DTSTART;TZID=Europe/Amsterdam:20130518T131500
DTEND;TZID=Europe/Amsterdam:20130518T174500
DTSTAMP:20260421T061155
CREATED:20130320T174318Z
LAST-MODIFIED:20130322T154712Z
UID:2948-1368882900-1368899100@hk-opdebeek.nl
SUMMARY:EXCURSIE naar VLASSERIJ- en SUIKERMUSEUM in KLUNDERT
DESCRIPTION:EXCURSIE naar het NATIONAAL VLASSERIJ- en SUIKERMUSEUM TE KLUNDERT. \nVertrek per auto vanaf Museum De Rijf om 13.15 uur. \nTijdens het bezoek wordt u omstreeks 14.00 uur verwelkomd met koffie/thee en gebak\, waarna u door een gids wordt rondgeleid. \nWe verwachten om ongeveer 17.45 uur weer in Prinsenbeek terug te zijn. \nKosten € 6\,50 per persoon. Als u een museumkaart heeft zijn de kosten € 2\,50 per persoon. \nNiet-leden betalen € 8\,50 of met een museumkaart € 4\,50. \nOm in aanmerking te komen voor de korting is het tonen van de museumkaart op deze dag verplicht. \nInbegrepen zijn: vervoer\, toegang met rondleiding\, koffie/thee met gebak. \n  \nOpgave door storting van de deelnamekosten op rekeningnummer 1425.83111 Rabobank HKK Op de Beek onder vermelding “Klundert”. Betalen is inschrijving en deelname. \nOpgave tot uiterlijk vrijdag 10 mei 2013. \nAls u bereid bent om te rijden wilt u dit dan doorgeven aan ons secretariaat hkopdebeek@ziggo.nl of tel. 076-5212405; \n4 personen per auto tegen een vergoeding van € 10\,00 per auto. \n  \nGa voor meer informatie naar   VLASSERIJ- EN SUIKERMUSEUM \n  \n  \n 
URL:https://hk-opdebeek.nl/agenda/excursie-naar-vlasserij-en-suikermuseum-in-klundert/
LOCATION:Museum DE RIJF\, Vijverstraat 3\, Prinsenbeek\, 4841 AC\, Netherlands
ORGANIZER;CN="HKK Op de Beek":MAILTO:hkopdebeek@ziggo.nl
END:VEVENT
BEGIN:VEVENT
DTSTART;VALUE=DATE:20130509
DTEND;VALUE=DATE:20130510
DTSTAMP:20260421T061155
CREATED:20121203T120423Z
LAST-MODIFIED:20121203T120423Z
UID:2725-1368057600-1368143999@hk-opdebeek.nl
SUMMARY:-Hemelvaart-
DESCRIPTION:  \n  \n  \n 
URL:https://hk-opdebeek.nl/agenda/hemelvaart/
END:VEVENT
BEGIN:VEVENT
DTSTART;VALUE=DATE:20130505
DTEND;VALUE=DATE:20130506
DTSTAMP:20260421T061155
CREATED:20121203T120334Z
LAST-MODIFIED:20121203T120334Z
UID:2724-1367712000-1367798399@hk-opdebeek.nl
SUMMARY:-Bevrijdingsdag-
DESCRIPTION:  \n  \n  \n 
URL:https://hk-opdebeek.nl/agenda/bevrijdingsdag/
END:VEVENT
BEGIN:VEVENT
DTSTART;TZID=Europe/Amsterdam:20130504T093000
DTEND;TZID=Europe/Amsterdam:20130504T130000
DTSTAMP:20260421T061155
CREATED:20121201T132315Z
LAST-MODIFIED:20121201T132315Z
UID:2646-1367659800-1367672400@hk-opdebeek.nl
SUMMARY:Begeleide wandeling over LANDGOED BURGST
DESCRIPTION:Wandeling over Landgoed Burgst onder leiding van 2 gidsen. Zij vertellen u alles over de natuur\, over de geschiedenis en over de ontwikkelingen in het gebied. De wandeling start op Kinderboerderij De Sik en duurt ongeveer 2 uur. Tijdens de ontvangst met koffie en cake krijgt u algemene informatie over het gebied\, waarna de wandeling begint. Na terugkomst op Kinderboerderij De Sik wacht u een eenvoudige lunch bestaande uit soep\, broodjes en drinken. \nVoor deze wandeling moet u zich inschrijven en per keer kunnen maximaal 20 wandelaars deelnemen. \nGa voor meer informatie en het inschrijvingsformulier naar:  Wandeling over Landgoed Burgst \n  \n  \n 
URL:https://hk-opdebeek.nl/agenda/begeleide-wandeling-over-landgoed-burgst-2/
LOCATION:Kinderboerderij De Sik\, Kesterendreef 14\, BREDA\, 4822 WT\, Netherlands
END:VEVENT
BEGIN:VEVENT
DTSTART;TZID=Europe/Amsterdam:20130430T133000
DTEND;TZID=Europe/Amsterdam:20130430T163000
DTSTAMP:20260421T061155
CREATED:20121119T162041Z
LAST-MODIFIED:20130227T151350Z
UID:2599-1367328600-1367339400@hk-opdebeek.nl
SUMMARY:-Koninginnedag-
DESCRIPTION:  \n  \n  \n 
URL:https://hk-opdebeek.nl/agenda/museum-de-rijf-open-5/
LOCATION:Museum DE RIJF\, Vijverstraat 3\, Prinsenbeek\, 4841 AT\, Netherlands
END:VEVENT
BEGIN:VEVENT
DTSTART;TZID=Europe/Amsterdam:20130428T133000
DTEND;TZID=Europe/Amsterdam:20130428T163000
DTSTAMP:20260421T061155
CREATED:20121201T151857Z
LAST-MODIFIED:20130214T143220Z
UID:2680-1367155800-1367166600@hk-opdebeek.nl
SUMMARY:Museum De RIJF open  met de expositie “100 jaar RK JONGE BOERENSTAND/KPJ” Prinsenbeek
DESCRIPTION:Museum De RIJF open met de expositie “100 jaar R.K. Jonge Boerenstand/KPJ”  Prinsenbeek. \n  \n  \n 
URL:https://hk-opdebeek.nl/agenda/museum-de-rijf-open-met-kunstexpositie-en-veiling/
LOCATION:Museum DE RIJF\, Vijverstraat 3\, PRINSENBEEK\, 4841 AT\, Netherlands
END:VEVENT
BEGIN:VEVENT
DTSTART;TZID=Europe/Amsterdam:20130417T090000
DTEND;TZID=Europe/Amsterdam:20130417T120000
DTSTAMP:20260421T061155
CREATED:20130328T132539Z
LAST-MODIFIED:20130422T095850Z
UID:3052-1366189200-1366200000@hk-opdebeek.nl
SUMMARY:VREDESKAPEL schoonmaak door leerlingen uit groep 8 van basisschool Apollo
DESCRIPTION:Halfjaarlijkse schoonmaak van de VREDESKAPEL door leerlingen uit de groepen 7 en 8 van basisschool Apollo o.l.v. de Heemkundekring.  \nDe 3 basisscholen (Griffioen\, Horizon en Apollo) geven bij toerbeurt hun medewerking aan het schoonmaak project en dit jaar is de Apolloschool aan de beurt. \n  \n  \n 
URL:https://hk-opdebeek.nl/agenda/vredeskapel-schoonmaak-door-leerlingen-uit-groep-8-van-de-basisschool/
LOCATION:VREDESKAPEL\, Kapelstraat 30\, Prinsenbeek\, Netherlands
END:VEVENT
BEGIN:VEVENT
DTSTART;TZID=Europe/Amsterdam:20130407T133000
DTEND;TZID=Europe/Amsterdam:20130407T163000
DTSTAMP:20260421T061155
CREATED:20121114T180339Z
LAST-MODIFIED:20130110T155101Z
UID:2583-1365341400-1365352200@hk-opdebeek.nl
SUMMARY:-museumweekend- Museum DE RIJF open met de expositie "100 jaar RK JONGE BOERENSTAND/KPJ" Prinsenbeek
DESCRIPTION:Museum DE RIJF open met de expositie “100 jaar R.K. Jonge Boerenstand/KPJ”  Prinsenbeek. \n  \n  \n 
URL:https://hk-opdebeek.nl/agenda/museumweekend-museum-de-rijf-open/
LOCATION:Museum DE RIJF\, Vijverstraat 3\, Prinsenbeek\, 4841 AT\, Netherlands
END:VEVENT
BEGIN:VEVENT
DTSTART;VALUE=DATE:20130401
DTEND;VALUE=DATE:20130402
DTSTAMP:20260421T061155
CREATED:20121203T120216Z
LAST-MODIFIED:20121203T120216Z
UID:2723-1364774400-1364860799@hk-opdebeek.nl
SUMMARY:-Tweede Paasdag-
DESCRIPTION:  \n  \n  \n 
URL:https://hk-opdebeek.nl/agenda/tweede-paasdag/
END:VEVENT
BEGIN:VEVENT
DTSTART;VALUE=DATE:20130331
DTEND;VALUE=DATE:20130401
DTSTAMP:20260421T061155
CREATED:20121203T120059Z
LAST-MODIFIED:20121203T121420Z
UID:2722-1364688000-1364774399@hk-opdebeek.nl
SUMMARY:-Pasen-
DESCRIPTION:  \n  \n  \n 
URL:https://hk-opdebeek.nl/agenda/eerste-paasdag/
END:VEVENT
END:VCALENDAR