BEGIN:VCALENDAR
VERSION:2.0
PRODID:-// - ECPv6.15.20//NONSGML v1.0//EN
CALSCALE:GREGORIAN
METHOD:PUBLISH
X-ORIGINAL-URL:https://hk-opdebeek.nl
X-WR-CALDESC:Evenementen voor 
REFRESH-INTERVAL;VALUE=DURATION:PT1H
X-Robots-Tag:noindex
X-PUBLISHED-TTL:PT1H
BEGIN:VTIMEZONE
TZID:Europe/Amsterdam
BEGIN:DAYLIGHT
TZOFFSETFROM:+0100
TZOFFSETTO:+0200
TZNAME:CEST
DTSTART:20250330T010000
END:DAYLIGHT
BEGIN:STANDARD
TZOFFSETFROM:+0200
TZOFFSETTO:+0100
TZNAME:CET
DTSTART:20251026T010000
END:STANDARD
BEGIN:DAYLIGHT
TZOFFSETFROM:+0100
TZOFFSETTO:+0200
TZNAME:CEST
DTSTART:20260329T010000
END:DAYLIGHT
BEGIN:STANDARD
TZOFFSETFROM:+0200
TZOFFSETTO:+0100
TZNAME:CET
DTSTART:20261025T010000
END:STANDARD
BEGIN:DAYLIGHT
TZOFFSETFROM:+0100
TZOFFSETTO:+0200
TZNAME:CEST
DTSTART:20270328T010000
END:DAYLIGHT
BEGIN:STANDARD
TZOFFSETFROM:+0200
TZOFFSETTO:+0100
TZNAME:CET
DTSTART:20271031T010000
END:STANDARD
END:VTIMEZONE
BEGIN:VEVENT
DTSTART;TZID=Europe/Amsterdam:20260418T140000
DTEND;TZID=Europe/Amsterdam:20260418T160000
DTSTAMP:20260425T173811
CREATED:20260310T112726Z
LAST-MODIFIED:20260310T112743Z
UID:15750-1776520800-1776528000@hk-opdebeek.nl
SUMMARY:Ode aan de dorpsdichter Piet de Nijs
DESCRIPTION:Op zaterdag 18 april om 14.00 uur wordt er een “Ode gebracht aan de Dorpsdichter Piet de Nijs” in de Nispenhoeve aan de Beeksestraat 76 te Prinsenbeek.
URL:https://hk-opdebeek.nl/agenda/ode-aan-de-dorpsdichter-piet-de-nijs/
LOCATION:Boerderij De Nispenhoeve (1891)\, Beeksestraat 76\, Prinsenbeek\, Nederland
CATEGORIES:heemkundekring
ORGANIZER;CN="HKK 'Op de Beek'":MAILTO:hkopdebeek@ziggo.nl
END:VEVENT
BEGIN:VEVENT
DTSTART;TZID=Europe/Amsterdam:20260503T133000
DTEND;TZID=Europe/Amsterdam:20260503T163000
DTSTAMP:20260425T173811
CREATED:20260424T135139Z
LAST-MODIFIED:20260424T135139Z
UID:15814-1777815000-1777825800@hk-opdebeek.nl
SUMMARY:Lia de Graaf exposeert in De Rijf
DESCRIPTION:Op zondag\, 3 mei 2026 vanaf 13.30 uur tot 16.30 uur opent de Rijf aan de Brielsedreef 39a haar deuren voor een expositie “Boeiende creaties” van Lia de Graaf. \nWie is Lia de Graaf!  In 1994 kwam Lia met haar man Han vanuit Bloemendaal naar Prinsenbeek. Zij betrokken een mooie woning in de Beek en al snel vonden zij hun  draai.
URL:https://hk-opdebeek.nl/agenda/lia-de-graaf-exposeert-in-de-rijf/
LOCATION:Museum DE RIJF\, Vijverstraat 3\, Prinsenbeek\, 4841 AT\, Netherlands
CATEGORIES:museum
END:VEVENT
BEGIN:VEVENT
DTSTART;TZID=Europe/Amsterdam:20260822T080000
DTEND;TZID=Europe/Amsterdam:20260822T170000
DTSTAMP:20260425T173811
CREATED:20260424T135035Z
LAST-MODIFIED:20260424T135035Z
UID:15811-1787385600-1787418000@hk-opdebeek.nl
SUMMARY:Heemreis 2026
DESCRIPTION:De Heemreis 2026 is gewijzigd. In tegenstelling tot  wat er in het kwartaalblad  De Klepel nummer 116 maart 2026 staat  vermeld\, gaat de Heemreis naar de Provincie Zeeland. \nDe geplande reis naar Limburg / Vaals kan helaas geen doorgang vinden. Het museum met een mooie verzameling aan Heiligenbeelden heeft haar deuren gesloten. \nDe reis gaat nu naar Zeeland onder de naam “Zeeuwse Nostalgie en varen op het Veerse Meer”.  \nWe vertrekken  op zaterdag\, 22 augustus 2026 om 09.00 uur vanaf de Markt in Prinsenbeek. We rijden naar  Hoedekenskerke\,naar het oude stoomtreinstation “De Buffer”. We krijgen daar een rustpauze waar we genieten van een kop koffie / thee met een  Zeeuwse bolus. Vervolgens gaan we kennis maken met de klederdracht “Mooi Zeeland”. De streekdracht is een belangrijk deel van het cultureel Zeeuwse verleden. Protestanten en Katholieken hadden ieder hun eigen dracht. Ook ieder eiland had zijn eigen streekdracht. De klederdrachtgroep legt uit en draagt natuurlijk zelf ook de kleding uit die tijd.  Na dit allemaal te hebben aangehoord en gezien verlaten we deze plaats en rijden naar het lunchadres. Er staat voor ons een heerlijke lunch met kroket gereed. \n \n  \nNa de lunch rijden we naar Veere waar we een rondvaart van een uur gaan maken. U vaart langs prachtige natuureilanden\, u ziet wilde paarden aan de waterkant en bootjes en jachtjes om je heen.  Tijdens de rondvaart kunt u een consumptie bestellen –  is bij de prijs inbegrepen. \nNa deze Zeeuwse indrukken rijden we weer richting Prinsenbeek. We hopen rond 18.00 uur weer thuis te zijn. \nU kunt zich aanmelden voor deze reis door 70\,00 euro per persoon over te maken op bankrekening NL84 RABO 014 258 3111 t.n.v. HK Op de Beek.  P.s. U dient lid te zijn van de Heemkundekring Op de Beek om deel te nemen aan deze heemreis.
URL:https://hk-opdebeek.nl/agenda/heemreis-2026/
LOCATION:Zeeland
CATEGORIES:heemkundekring
END:VEVENT
END:VCALENDAR