BEGIN:VCALENDAR
VERSION:2.0
PRODID:-// - ECPv6.15.20//NONSGML v1.0//EN
CALSCALE:GREGORIAN
METHOD:PUBLISH
X-ORIGINAL-URL:https://hk-opdebeek.nl
X-WR-CALDESC:Evenementen voor 
REFRESH-INTERVAL;VALUE=DURATION:PT1H
X-Robots-Tag:noindex
X-PUBLISHED-TTL:PT1H
BEGIN:VTIMEZONE
TZID:Europe/Amsterdam
BEGIN:DAYLIGHT
TZOFFSETFROM:+0100
TZOFFSETTO:+0200
TZNAME:CEST
DTSTART:20240331T010000
END:DAYLIGHT
BEGIN:STANDARD
TZOFFSETFROM:+0200
TZOFFSETTO:+0100
TZNAME:CET
DTSTART:20241027T010000
END:STANDARD
BEGIN:DAYLIGHT
TZOFFSETFROM:+0100
TZOFFSETTO:+0200
TZNAME:CEST
DTSTART:20250330T010000
END:DAYLIGHT
BEGIN:STANDARD
TZOFFSETFROM:+0200
TZOFFSETTO:+0100
TZNAME:CET
DTSTART:20251026T010000
END:STANDARD
BEGIN:DAYLIGHT
TZOFFSETFROM:+0100
TZOFFSETTO:+0200
TZNAME:CEST
DTSTART:20260329T010000
END:DAYLIGHT
BEGIN:STANDARD
TZOFFSETFROM:+0200
TZOFFSETTO:+0100
TZNAME:CET
DTSTART:20261025T010000
END:STANDARD
END:VTIMEZONE
BEGIN:VEVENT
DTSTART;TZID=Europe/Amsterdam:20250803T133000
DTEND;TZID=Europe/Amsterdam:20250803T163000
DTSTAMP:20260425T123023
CREATED:20250416T150105Z
LAST-MODIFIED:20250721T141443Z
UID:15104-1754227800-1754238600@hk-opdebeek.nl
SUMMARY:MUSEUM DE RIJF OPEN met EXPOSITIE "5 JAAR BIKSE KRUIDENHOF"
DESCRIPTION:De expositie geeft een overzicht van de afgelopen 5 jaar van deze mooie tuin en natuurlijk kunt u dan ook een bezoekje brengen aan onze Bikse Kruidenhof\, achter het museum. Ruik\, proef en bewonder de kleuren en geuren. Ontvang en deel recepten. Kruiden zijn te koop voor een minimale bijdrage.\nGeniet na het bezoek in de museumhuiskamer van koffie en/of verse (munt)thee. \n“Bikse Kruidenhof”\, al vijf jaar een tuin vol leven. \nIn 2020 werd met de kruidenhof gestart met als uitgangspunten dat het een aanwinst moest worden voor Museum de Rijf en voor Heemkundekring “Op de Beek”\, een aanwinst voor bezoekers en zeker ook voor insecten en derhalve: biologisch en ecologisch. Dat is inmiddels allemaal gelukt. De tuin is goed gevuld met planten. Oude werktuigen kregen een plekje in een fraai tuinhuisje\, dat tevens dient als opslag en om te schuilen. \nHet kruidenassortiment bestaat uit culinaire\, medicinale\, decoratieve en insecten lokkende planten\, zoals peterselie\, valeriaan\, munt\, maggikruid\, marjolein en dille. Er staan minimaal 40 tot 50 soorten kruiden en planten\, voorzien van door De Bezige Bijen gemaakte naambordjes. Niet alles is eetbaar en sommige planten zijn zelfs giftig. Maar wel nuttig. Waardplanten (zoals brandnetels bijvoorbeeld) zijn van groot belang voor de levenscyclus van bijen en vlinders. \nDe bijenkast wordt beheerd door een imker. In principe is de honing voor de bijen zelf\, behalve als er echt meer dan genoeg is. Alleen dan wordt er honing geoogst en verkocht in het museum. \nIn het insectenhotel overwinteren verschillende insecten waaronder metselbijen. \nHet uit 6 personen bestaande team komt op donderdagochtend bij elkaar en is dan werkzaam in de tuin. Met een groter team zouden (nog) meer kruiden kunnen worden verwerkt of gebruikt en kunnen plannen en ideeën voor o.a. een eigen thee-melange of een kruidencrème en recepten verder worden uitgewerkt. \n 
URL:https://hk-opdebeek.nl/agenda/museum-de-rijf-open-met-expositie-kruiden/
LOCATION:Museum DE RIJF Brielsedreef\, Brielsedreef 39a\, Prinsenbeek\, 4841 KR\, Nederland
ORGANIZER;CN="Heemkundekring OP DE BEEK":MAILTO:hkopdebeek@ziggo.nl
END:VEVENT
END:VCALENDAR