BEGIN:VCALENDAR
VERSION:2.0
PRODID:-// - ECPv6.15.20//NONSGML v1.0//EN
CALSCALE:GREGORIAN
METHOD:PUBLISH
X-ORIGINAL-URL:https://hk-opdebeek.nl
X-WR-CALDESC:Evenementen voor 
REFRESH-INTERVAL;VALUE=DURATION:PT1H
X-Robots-Tag:noindex
X-PUBLISHED-TTL:PT1H
BEGIN:VTIMEZONE
TZID:Europe/Amsterdam
BEGIN:DAYLIGHT
TZOFFSETFROM:+0100
TZOFFSETTO:+0200
TZNAME:CEST
DTSTART:20240331T010000
END:DAYLIGHT
BEGIN:STANDARD
TZOFFSETFROM:+0200
TZOFFSETTO:+0100
TZNAME:CET
DTSTART:20241027T010000
END:STANDARD
BEGIN:DAYLIGHT
TZOFFSETFROM:+0100
TZOFFSETTO:+0200
TZNAME:CEST
DTSTART:20250330T010000
END:DAYLIGHT
BEGIN:STANDARD
TZOFFSETFROM:+0200
TZOFFSETTO:+0100
TZNAME:CET
DTSTART:20251026T010000
END:STANDARD
BEGIN:DAYLIGHT
TZOFFSETFROM:+0100
TZOFFSETTO:+0200
TZNAME:CEST
DTSTART:20260329T010000
END:DAYLIGHT
BEGIN:STANDARD
TZOFFSETFROM:+0200
TZOFFSETTO:+0100
TZNAME:CET
DTSTART:20261025T010000
END:STANDARD
END:VTIMEZONE
BEGIN:VEVENT
DTSTART;TZID=Europe/Amsterdam:20250724T140000
DTEND;TZID=Europe/Amsterdam:20250724T160000
DTSTAMP:20260425T135542
CREATED:20250416T141948Z
LAST-MODIFIED:20250416T141948Z
UID:15085-1753365600-1753372800@hk-opdebeek.nl
SUMMARY:"BUURTEN"
DESCRIPTION:Ook deze zomer gaan we weer buurten in de Rijf\, als het goed weer is buiten en zo niet dan gaan we naar binnen.  \nKom er gezellig bij zitten om\, eventueel onder het genot van een kop koffie/thee\, gedachten uit te wisselen over de voorbije periode en de verwachtingen voor de toekomst van het dorp. \nMogelijk komen ook oude verhalen of belevenissen naar boven. \nCoördinator Anton Machielsen heet u van harte welkom.
URL:https://hk-opdebeek.nl/agenda/buurten-7/
LOCATION:Museum DE RIJF Brielsedreef\, Brielsedreef 39a\, Prinsenbeek\, 4841 KR\, Nederland
ORGANIZER;CN="Heemkundekring OP DE BEEK":MAILTO:hkopdebeek@ziggo.nl
END:VEVENT
END:VCALENDAR