BEGIN:VCALENDAR
VERSION:2.0
PRODID:-// - ECPv6.15.20//NONSGML v1.0//EN
CALSCALE:GREGORIAN
METHOD:PUBLISH
X-ORIGINAL-URL:https://hk-opdebeek.nl
X-WR-CALDESC:Evenementen voor 
REFRESH-INTERVAL;VALUE=DURATION:PT1H
X-Robots-Tag:noindex
X-PUBLISHED-TTL:PT1H
BEGIN:VTIMEZONE
TZID:Europe/Amsterdam
BEGIN:DAYLIGHT
TZOFFSETFROM:+0100
TZOFFSETTO:+0200
TZNAME:CEST
DTSTART:20240331T010000
END:DAYLIGHT
BEGIN:STANDARD
TZOFFSETFROM:+0200
TZOFFSETTO:+0100
TZNAME:CET
DTSTART:20241027T010000
END:STANDARD
BEGIN:DAYLIGHT
TZOFFSETFROM:+0100
TZOFFSETTO:+0200
TZNAME:CEST
DTSTART:20250330T010000
END:DAYLIGHT
BEGIN:STANDARD
TZOFFSETFROM:+0200
TZOFFSETTO:+0100
TZNAME:CET
DTSTART:20251026T010000
END:STANDARD
BEGIN:DAYLIGHT
TZOFFSETFROM:+0100
TZOFFSETTO:+0200
TZNAME:CEST
DTSTART:20260329T010000
END:DAYLIGHT
BEGIN:STANDARD
TZOFFSETFROM:+0200
TZOFFSETTO:+0100
TZNAME:CET
DTSTART:20261025T010000
END:STANDARD
END:VTIMEZONE
BEGIN:VEVENT
DTSTART;TZID=Europe/Amsterdam:20250706T133000
DTEND;TZID=Europe/Amsterdam:20250706T163000
DTSTAMP:20260425T135259
CREATED:20250610T132538Z
LAST-MODIFIED:20250610T132629Z
UID:15159-1751808600-1751819400@hk-opdebeek.nl
SUMMARY:MUSEUM DE RIJF OPEN met expositie ‘OUDE AMBACHTEN HERLEVEN”
DESCRIPTION:Binnen en buiten het museum tal van activiteiten over dit thema. \nBinnen is een fotoexpositie over diverse oude ambachten.\nTerug in de tijd is natuurlijk ook de maquette: “Markt in miniatuur”\, over De Beek van toen. \nDaarnaast kunt u genieten van huisvlijt zoals men dat vroeger deed achter de plattebuis. Komt zien hoe er wordt geweven op een weefgetouw uit 1839 en gesponnen\, of het kunstige kantklossen. Waar zie je tegenwoordig nog sokkenstoppen en verstellen?\nOok kunt u van dichtbij patchwork en quilten zien. \nOok de klokkenmaker en de mandenvlechter zijn bezig met hun vakwerk. \nHeeft u het binnen allemaal gezien en ook de andere projecten\, die het museum rijk is\, dan is het tijd om buiten de klompenmaker en de smid (met echt vuur zoals in de smederij)\, alsmede de wolverfster aan het werk te zien. \nNa dit alles te hebben gezien en waarover u natuurlijk ook de nodige vragen hebt kunnen stellen\, kun je nog even onder het genot van een kopje koffie/thee gezellig buurten in de huiskamer. \nWij zien en ontmoeten u graag in ons museum.
URL:https://hk-opdebeek.nl/agenda/museum-de-rijf-open-met-expositie-oude-ambachten-herleven/
LOCATION:Museum DE RIJF Brielsedreef\, Brielsedreef 39a\, Prinsenbeek\, 4841 KR\, Nederland
ORGANIZER;CN="Heemkundekring OP DE BEEK":MAILTO:hkopdebeek@ziggo.nl
END:VEVENT
END:VCALENDAR