BEGIN:VCALENDAR
VERSION:2.0
PRODID:-// - ECPv6.15.20//NONSGML v1.0//EN
CALSCALE:GREGORIAN
METHOD:PUBLISH
X-ORIGINAL-URL:https://hk-opdebeek.nl
X-WR-CALDESC:Evenementen voor 
REFRESH-INTERVAL;VALUE=DURATION:PT1H
X-Robots-Tag:noindex
X-PUBLISHED-TTL:PT1H
BEGIN:VTIMEZONE
TZID:Europe/Amsterdam
BEGIN:DAYLIGHT
TZOFFSETFROM:+0100
TZOFFSETTO:+0200
TZNAME:CEST
DTSTART:20240331T010000
END:DAYLIGHT
BEGIN:STANDARD
TZOFFSETFROM:+0200
TZOFFSETTO:+0100
TZNAME:CET
DTSTART:20241027T010000
END:STANDARD
BEGIN:DAYLIGHT
TZOFFSETFROM:+0100
TZOFFSETTO:+0200
TZNAME:CEST
DTSTART:20250330T010000
END:DAYLIGHT
BEGIN:STANDARD
TZOFFSETFROM:+0200
TZOFFSETTO:+0100
TZNAME:CET
DTSTART:20251026T010000
END:STANDARD
BEGIN:DAYLIGHT
TZOFFSETFROM:+0100
TZOFFSETTO:+0200
TZNAME:CEST
DTSTART:20260329T010000
END:DAYLIGHT
BEGIN:STANDARD
TZOFFSETFROM:+0200
TZOFFSETTO:+0100
TZNAME:CET
DTSTART:20261025T010000
END:STANDARD
END:VTIMEZONE
BEGIN:VEVENT
DTSTART;TZID=Europe/Amsterdam:20250705T080000
DTEND;TZID=Europe/Amsterdam:20250705T180000
DTSTAMP:20260425T135522
CREATED:20250408T101958Z
LAST-MODIFIED:20250408T101958Z
UID:15077-1751702400-1751738400@hk-opdebeek.nl
SUMMARY:HEEMREIS LIMBURG
DESCRIPTION:Dit jaar staat de reis bol van “heemkunde”!\nWe beginnen in Tegelen met koffie/thee met een heerlijk stuk Limburgse vlaai in het voormalige klooster “Abdij Ulingsheide”.\nHierna volgt een begeleide bustocht door het Limburgse land\, waarna het tijd is voor de lunch.\nIn de middag bezoeken we het Limburgse Openluchtmusuem Eynderhoof in Nederweert\, een in het groen landelijk gelegen en door vrijwilligers gerund levendig Peeldorp. We zijn daar even weg van het hectische leven van alledag als we daar zien hoe het leven in die regio van rond 1900 was.\nVertrek vanaf de Markt Prinsenbeek om 8.00 uur (7.45 uur aanwezig zijn).\nOm ongeveer 18.00 uur zijn we weer terug op de Beek.\n \nInschrijven door overmaking van € 60\,00 per persoon op rekeningnummer NL 84 RABO 0142 5831 11 t.n.v. HKK Op de Beek onder vermelding van Heemreis 2025.\n\n\n\n\n\n\n\n\n\n\n\n\nOpgave tot uiterlijk 26 juni 2025.
URL:https://hk-opdebeek.nl/agenda/heemreis-limburg/
LOCATION:Markt\, Markt\, Prinsenbeek\, 4841\, Netherlands
ORGANIZER;CN="Heemkundekring OP DE BEEK":MAILTO:hkopdebeek@ziggo.nl
END:VEVENT
END:VCALENDAR