BEGIN:VCALENDAR
VERSION:2.0
PRODID:-// - ECPv6.15.20//NONSGML v1.0//EN
CALSCALE:GREGORIAN
METHOD:PUBLISH
X-ORIGINAL-URL:https://hk-opdebeek.nl
X-WR-CALDESC:Evenementen voor 
REFRESH-INTERVAL;VALUE=DURATION:PT1H
X-Robots-Tag:noindex
X-PUBLISHED-TTL:PT1H
BEGIN:VTIMEZONE
TZID:Europe/Amsterdam
BEGIN:DAYLIGHT
TZOFFSETFROM:+0100
TZOFFSETTO:+0200
TZNAME:CEST
DTSTART:20240331T010000
END:DAYLIGHT
BEGIN:STANDARD
TZOFFSETFROM:+0200
TZOFFSETTO:+0100
TZNAME:CET
DTSTART:20241027T010000
END:STANDARD
BEGIN:DAYLIGHT
TZOFFSETFROM:+0100
TZOFFSETTO:+0200
TZNAME:CEST
DTSTART:20250330T010000
END:DAYLIGHT
BEGIN:STANDARD
TZOFFSETFROM:+0200
TZOFFSETTO:+0100
TZNAME:CET
DTSTART:20251026T010000
END:STANDARD
BEGIN:DAYLIGHT
TZOFFSETFROM:+0100
TZOFFSETTO:+0200
TZNAME:CEST
DTSTART:20260329T010000
END:DAYLIGHT
BEGIN:STANDARD
TZOFFSETFROM:+0200
TZOFFSETTO:+0100
TZNAME:CET
DTSTART:20261025T010000
END:STANDARD
END:VTIMEZONE
BEGIN:VEVENT
DTSTART;TZID=Europe/Amsterdam:20250601T133000
DTEND;TZID=Europe/Amsterdam:20250601T163000
DTSTAMP:20260426T044411
CREATED:20250317T143538Z
LAST-MODIFIED:20250501T114647Z
UID:15051-1748784600-1748795400@hk-opdebeek.nl
SUMMARY:MUSEUM DE RIJF OPEN met SCHAPEN SCHEREN en Expo 100 jaar Bijenhoudersvereniging
DESCRIPTION:SCHAPEN SCHEREN om 14.00 uur en om 15.00 uur
URL:https://hk-opdebeek.nl/agenda/museum-de-rijf-open-met-expo-100-jaar-bijenhoudersvereniging-2/
LOCATION:Museum DE RIJF Brielsedreef\, Brielsedreef 39a\, Prinsenbeek\, 4841 KR\, Nederland
ORGANIZER;CN="Heemkundekring OP DE BEEK":MAILTO:hkopdebeek@ziggo.nl
END:VEVENT
END:VCALENDAR