BEGIN:VCALENDAR
VERSION:2.0
PRODID:-// - ECPv6.15.20//NONSGML v1.0//EN
CALSCALE:GREGORIAN
METHOD:PUBLISH
X-ORIGINAL-URL:https://hk-opdebeek.nl
X-WR-CALDESC:Evenementen voor 
REFRESH-INTERVAL;VALUE=DURATION:PT1H
X-Robots-Tag:noindex
X-PUBLISHED-TTL:PT1H
BEGIN:VTIMEZONE
TZID:Europe/Amsterdam
BEGIN:DAYLIGHT
TZOFFSETFROM:+0100
TZOFFSETTO:+0200
TZNAME:CEST
DTSTART:20240331T010000
END:DAYLIGHT
BEGIN:STANDARD
TZOFFSETFROM:+0200
TZOFFSETTO:+0100
TZNAME:CET
DTSTART:20241027T010000
END:STANDARD
BEGIN:DAYLIGHT
TZOFFSETFROM:+0100
TZOFFSETTO:+0200
TZNAME:CEST
DTSTART:20250330T010000
END:DAYLIGHT
BEGIN:STANDARD
TZOFFSETFROM:+0200
TZOFFSETTO:+0100
TZNAME:CET
DTSTART:20251026T010000
END:STANDARD
BEGIN:DAYLIGHT
TZOFFSETFROM:+0100
TZOFFSETTO:+0200
TZNAME:CEST
DTSTART:20260329T010000
END:DAYLIGHT
BEGIN:STANDARD
TZOFFSETFROM:+0200
TZOFFSETTO:+0100
TZNAME:CET
DTSTART:20261025T010000
END:STANDARD
END:VTIMEZONE
BEGIN:VEVENT
DTSTART;TZID=Europe/Amsterdam:20250508T100000
DTEND;TZID=Europe/Amsterdam:20250508T103000
DTSTAMP:20260426T062105
CREATED:20250416T145413Z
LAST-MODIFIED:20250416T145413Z
UID:15100-1746698400-1746700200@hk-opdebeek.nl
SUMMARY:OVERDRACHT ONDERHOUD VREDESKAPEL
DESCRIPTION:Op 4 mei vindt bij de Vredeskapel volgens traditie de plechtige Dodenherdenking plaats. \n\n\nLeerlingen van groep 8 van basisschool De Horizon hebben op dinsdag 15 april flink de handen uit de mouwen gestoken en maakten er alles netjes schoon. \nOp donderdag 8 mei dragen de kinderen de kapel over aan leerlingen van groep 7 van de Montessori+ Prinsenbeek\, die het volgende schooljaar gaat  zorgdragen voor het onderhoud. Dit gebeurt die dag om 10.00 uur\, in samenwerking met Heemkundekring\, Mobilisatiemuseum en Beekse Smart. \nIn samenwerking met de drie Prinsenbeekse basisscholen Montessori+ Prinsenbeek\, De Griffioen en De Horizon zorgen Heemkundekring Op de Beek en mobilisatiemuseum “Weest op uw hoede” ervoor dat in het voor- en najaar de Vredeskapel er weer verzorgd uitziet. Ze doen dit bij toerbeurt.\nEr wordt gepoetst\, gewied\, geharkt\, geschoffeld enzovoort. Voor de samenwerking met de scholen is gekozen omdat de kinderen dan beter leren begrijpen wat de Vredeskapel in het algemeen en voor Prinsenbeek in het bijzonder betekent.
URL:https://hk-opdebeek.nl/agenda/overdracht-onderhoud-vredeskapel-2/
LOCATION:VREDESKAPEL\, Kapelstraat 30\, Prinsenbeek\, Netherlands
ORGANIZER;CN="Heemkundekring OP DE BEEK":MAILTO:hkopdebeek@ziggo.nl
END:VEVENT
END:VCALENDAR